BEGIN:VCALENDAR
VERSION:2.0
PRODID:-//Tukios.com/
BEGIN:VEVENT
UID:4e35a200-cf75-4fb9-8d40-6f220d949f4c@www.herbwalker.com
DTSTAMP:20260423T231026Z
DTSTART:20260502T170000Z
DTEND:20260502T180000Z
SUMMARY:Funeral Service
DESCRIPTION:
URL:https://www.herbwalker.com/obituaries/shirley-chambers
LOCATION:New Jerusalem Baptist Church 26 W North Bend Rd  Cincinnati OH 
	45216
GEO:39.1978738;-84.477838
END:VEVENT
END:VCALENDAR