BEGIN:VCALENDAR
VERSION:2.0
PRODID:-//Tukios.com/
BEGIN:VEVENT
UID:112b5bd0-c446-42b0-be6e-c1276de9d51e@www.herbwalker.com
DTSTAMP:20260423T231653Z
DTSTART:20260502T160000Z
DTEND:20260502T170000Z
SUMMARY:Visitation
DESCRIPTION:
URL:https://www.herbwalker.com/obituaries/shirley-chambers
LOCATION:New Jerusalem Baptist Church 26 W North Bend Rd  Cincinnati OH 
	45216
GEO:39.1978738;-84.477838
END:VEVENT
END:VCALENDAR