BEGIN:VCALENDAR
VERSION:2.0
PRODID:-//Tukios.com/
BEGIN:VEVENT
UID:826fbca1-c092-41eb-960a-3c24e37af07e@www.herbwalker.com
DTSTAMP:20260425T150541Z
DTSTART:20260509T150000Z
DTEND:20260509T160000Z
SUMMARY:Funeral Service
DESCRIPTION:
URL:https://www.herbwalker.com/obituaries/shelia-mallory
LOCATION: 1580 Summit Road  Cincinnati OH 45237
GEO:39.2030807;-84.4626364
END:VEVENT
END:VCALENDAR