BEGIN:VCALENDAR
VERSION:2.0
PRODID:-//Tukios.com/
BEGIN:VEVENT
UID:73481e36-165b-4f74-a2e3-8f0280d52c8f@www.herbwalker.com
DTSTAMP:20260425T150413Z
DTSTART:20260509T140000Z
DTEND:20260509T150000Z
SUMMARY:Visitation
DESCRIPTION:
URL:https://www.herbwalker.com/obituaries/shelia-mallory
LOCATION:New Prospect Baptist Church 1580 Summit Road  Cincinnati OH 
	45237
GEO:39.2030807;-84.4626364
END:VEVENT
END:VCALENDAR