BEGIN:VCALENDAR
VERSION:2.0
PRODID:-//Tukios.com/
BEGIN:VEVENT
UID:1b00eb37-0b8b-4b19-b376-5260241b75ac@www.herbwalker.com
DTSTAMP:20260425T151140Z
DTSTART:20260511T150000Z
DTEND:20260511T160000Z
SUMMARY:Funeral Service
DESCRIPTION:
URL:https://www.herbwalker.com/obituaries/sharon-davis-smith
LOCATION: 2625 Gilbert Ave  Cincinnati OH 45206
GEO:39.1281253;-84.4894842
END:VEVENT
END:VCALENDAR