BEGIN:VCALENDAR
VERSION:2.0
PRODID:-//Tukios.com/
BEGIN:VEVENT
UID:7b643a3e-bac6-4b89-8bcb-eadfdd8c8bb1@www.herbwalker.com
DTSTAMP:20260425T151503Z
DTSTART:20260511T140000Z
DTEND:20260511T150000Z
SUMMARY:Visitation
DESCRIPTION:
URL:https://www.herbwalker.com/obituaries/sharon-davis-smith
LOCATION: 2625 Gilbert Ave  Cincinnati OH 45206
GEO:39.1281253;-84.4894842
END:VEVENT
END:VCALENDAR