BEGIN:VCALENDAR
VERSION:2.0
PRODID:-//Tukios.com/
BEGIN:VEVENT
UID:3e41f6e6-3761-421e-a5ef-c2a1d36cd807@www.herbwalker.com
DTSTAMP:20260423T155316Z
DTSTART:20260508T150000Z
DTEND:20260508T160000Z
SUMMARY:Funeral Service
DESCRIPTION:
URL:https://www.herbwalker.com/obituaries/marvin-young-sr
LOCATION: 7272 Hamilton Ave  Cincinnati OH 45231
GEO:39.2273601;-84.5479629
END:VEVENT
END:VCALENDAR