BEGIN:VCALENDAR
VERSION:2.0
PRODID:-//Tukios.com/
BEGIN:VEVENT
UID:3b2911f2-263d-4929-840c-d5ace3560aed@www.herbwalker.com
DTSTAMP:20260423T201736Z
DTSTART:20260509T160000Z
DTEND:20260509T170000Z
SUMMARY:Funeral Service
DESCRIPTION:
URL:https://www.herbwalker.com/obituaries/lucy-martinez
LOCATION: 4321 Elyria Ave  Lorain OH 44055
GEO:41.430182;-82.1543226
END:VEVENT
END:VCALENDAR