BEGIN:VCALENDAR
VERSION:2.0
PRODID:-//Tukios.com/
BEGIN:VEVENT
UID:b7100398-8b60-44f9-827c-09b42bf0497b@www.herbwalker.com
DTSTAMP:20260423T201547Z
DTSTART:20260509T150000Z
DTEND:20260509T160000Z
SUMMARY:Visitation
DESCRIPTION:
URL:https://www.herbwalker.com/obituaries/lucy-martinez
LOCATION:House of Praise International Church 4321 Elyria Ave  Lorain OH 
	44055
GEO:41.430182;-82.1543226
END:VEVENT
END:VCALENDAR