BEGIN:VCALENDAR
VERSION:2.0
PRODID:-//Tukios.com/
BEGIN:VEVENT
UID:49a91c16-c93e-4df5-825a-14e68992c202@www.herbwalker.com
DTSTAMP:20260420T171859Z
DTSTART:20260423T183000Z
DTEND:20260423T193000Z
SUMMARY:Memorial Service
DESCRIPTION:
URL:https://www.herbwalker.com/obituaries/larry-myers
LOCATION: 7272 Hamilton Ave  Cincinnati OH 45231
GEO:39.2273601;-84.5479629
END:VEVENT
END:VCALENDAR