BEGIN:VCALENDAR
VERSION:2.0
PRODID:-//Tukios.com/
BEGIN:VEVENT
UID:9009a5b9-8c28-4b99-b538-93766691547c@www.herbwalker.com
DTSTAMP:20260420T172327Z
DTSTART:20260423T180000Z
DTEND:20260423T183000Z
SUMMARY:Memorial Gathering
DESCRIPTION:
URL:https://www.herbwalker.com/obituaries/larry-myers
LOCATION: 7272 Hamilton Ave  Cincinnati OH 45231
GEO:39.2273601;-84.5479629
END:VEVENT
END:VCALENDAR