BEGIN:VCALENDAR
VERSION:2.0
PRODID:-//Tukios.com/
BEGIN:VEVENT
UID:2aa99dc6-cda3-4352-91f7-a6d204987617@www.herbwalker.com
DTSTAMP:20260421T153535Z
DTSTART:20260501T150000Z
DTEND:20260501T160000Z
SUMMARY:Funeral Service
DESCRIPTION:
URL:https://www.herbwalker.com/obituaries/kathryn-whitehead
LOCATION: 7272 Hamilton Ave  Cincinnati OH 45231
GEO:39.2273601;-84.5479629
END:VEVENT
END:VCALENDAR