BEGIN:VCALENDAR
VERSION:2.0
PRODID:-//Tukios.com/
BEGIN:VEVENT
UID:e2bacf9d-d321-4a73-8881-b3c2fa49d60d@www.herbwalker.com
DTSTAMP:20260421T153847Z
DTSTART:20260501T140000Z
DTEND:20260501T150000Z
SUMMARY:Visitation
DESCRIPTION:
URL:https://www.herbwalker.com/obituaries/kathryn-whitehead
LOCATION: 7272 Hamilton Ave  Cincinnati OH 45231
GEO:39.2273601;-84.5479629
END:VEVENT
END:VCALENDAR