BEGIN:VCALENDAR
VERSION:2.0
PRODID:-//Tukios.com/
BEGIN:VEVENT
UID:d66f2679-388e-4b24-aec3-c21fcaaad69a@www.herbwalker.com
DTSTAMP:20260422T145705Z
DTSTART:20260516T200000Z
DTEND:20260516T210000Z
SUMMARY:Funeral Service
DESCRIPTION:
URL:https://www.herbwalker.com/obituaries/joseph-carter
LOCATION: 2625 Gilbert Ave  Cincinnati OH 45206
GEO:39.1281253;-84.4894842
END:VEVENT
END:VCALENDAR