BEGIN:VCALENDAR
VERSION:2.0
PRODID:-//Tukios.com/
BEGIN:VEVENT
UID:a5c0e95f-88cb-4f1f-be12-6466d7c8baf2@www.herbwalker.com
DTSTAMP:20260422T145704Z
DTSTART:20260516T190000Z
DTEND:20260516T200000Z
SUMMARY:Visitation
DESCRIPTION:
URL:https://www.herbwalker.com/obituaries/joseph-carter
LOCATION: 2625 Gilbert Ave  Cincinnati OH 45206
GEO:39.1281253;-84.4894842
END:VEVENT
END:VCALENDAR