BEGIN:VCALENDAR
VERSION:2.0
PRODID:-//Tukios.com/
BEGIN:VEVENT
UID:6e001f22-cf3a-49f6-aa8b-046c5f4145fd@www.herbwalker.com
DTSTAMP:20260423T155315Z
DTSTART:20260501T190000Z
DTEND:20260501T200000Z
SUMMARY:Funeral Service
DESCRIPTION:
URL:https://www.herbwalker.com/obituaries/james-alex-brown
LOCATION: 2625 Gilbert Ave  Cincinnati OH 45206
GEO:39.1281253;-84.4894842
END:VEVENT
END:VCALENDAR