BEGIN:VCALENDAR
VERSION:2.0
PRODID:-//Tukios.com/
BEGIN:VEVENT
UID:3702ec52-9b7b-48d3-9c32-7d81f2c4993c@www.herbwalker.com
DTSTAMP:20260423T155315Z
DTSTART:20260501T180000Z
DTEND:20260501T190000Z
SUMMARY:Visitation
DESCRIPTION:
URL:https://www.herbwalker.com/obituaries/james-alex-brown
LOCATION: 2625 Gilbert Ave  Cincinnati OH 45206
GEO:39.1281253;-84.4894842
END:VEVENT
END:VCALENDAR