BEGIN:VCALENDAR
VERSION:2.0
PRODID:-//Tukios.com/
BEGIN:VEVENT
UID:46b98067-0cfe-4b93-83a9-c4a6061e7702@www.herbwalker.com
DTSTAMP:20260422T233954Z
DTSTART:20260430T143000Z
DTEND:20260430T153000Z
SUMMARY:Funeral Service
DESCRIPTION:
URL:https://www.herbwalker.com/obituaries/helen-jones
LOCATION:Walker Funeral Home - Mt. Healthy 7272 Hamilton Avenue  
	Cincinnati OH 45231
GEO:39.2273601;-84.5479629
END:VEVENT
END:VCALENDAR