BEGIN:VCALENDAR
VERSION:2.0
PRODID:-//Tukios.com/
BEGIN:VEVENT
UID:b873209d-1965-4998-9e34-2a0530412bd0@www.herbwalker.com
DTSTAMP:20260422T233902Z
DTSTART:20260430T133000Z
DTEND:20260430T143000Z
SUMMARY:Visitation
DESCRIPTION:
URL:https://www.herbwalker.com/obituaries/helen-jones
LOCATION:Walker Funeral Home - Mt. Healthy 7272 Hamilton Avenue  
	Cincinnati OH 45231
GEO:39.2273601;-84.5479629
END:VEVENT
END:VCALENDAR