BEGIN:VCALENDAR
VERSION:2.0
PRODID:-//Tukios.com/
BEGIN:VEVENT
UID:bc1c12c4-c7ee-4409-a504-d3ad62bb030b@www.herbwalker.com
DTSTAMP:20260425T193944Z
DTSTART:20260515T190000Z
DTEND:20260515T200000Z
SUMMARY:Funeral Service
DESCRIPTION:
URL:https://www.herbwalker.com/obituaries/doretha-nixon
LOCATION:Walker Funeral Home - Mt. Healthy 7272 Hamilton Avenue  
	Cincinnati OH 45231
GEO:39.2273601;-84.5479629
END:VEVENT
END:VCALENDAR