BEGIN:VCALENDAR
VERSION:2.0
PRODID:-//Tukios.com/
BEGIN:VEVENT
UID:c0642acb-73ba-4b92-8284-9a2e47302a62@www.herbwalker.com
DTSTAMP:20260425T194009Z
DTSTART:20260515T180000Z
DTEND:20260515T190000Z
SUMMARY:Visitation
DESCRIPTION:
URL:https://www.herbwalker.com/obituaries/doretha-nixon
LOCATION:Walker Funeral Home - Mt. Healthy 7272 Hamilton Avenue  
	Cincinnati OH 45231
GEO:39.2273601;-84.5479629
END:VEVENT
END:VCALENDAR