BEGIN:VCALENDAR
VERSION:2.0
PRODID:-//Tukios.com/
BEGIN:VEVENT
UID:99311ac0-1cb4-488c-9ea3-01ac340d1229@www.herbwalker.com
DTSTAMP:20260421T000900Z
DTSTART:20260425T143000Z
DTEND:20260425T153000Z
SUMMARY:Memorial Service
DESCRIPTION:
URL:https://www.herbwalker.com/obituaries/delores-hummons
LOCATION: 2625 Gilbert Ave  Cincinnati OH 45206
GEO:39.1281253;-84.4894842
END:VEVENT
END:VCALENDAR