BEGIN:VCALENDAR
VERSION:2.0
PRODID:-//Tukios.com/
BEGIN:VEVENT
UID:a3be0fbb-a61e-420d-a919-be2474eca0e7@www.herbwalker.com
DTSTAMP:20260421T000635Z
DTSTART:20260425T140000Z
DTEND:20260425T143000Z
SUMMARY:Visitation
DESCRIPTION:
URL:https://www.herbwalker.com/obituaries/delores-hummons
LOCATION: 2625 Gilbert Ave  Cincinnati OH 45206
GEO:39.1281253;-84.4894842
END:VEVENT
END:VCALENDAR