BEGIN:VCALENDAR
VERSION:2.0
PRODID:-//Tukios.com/
BEGIN:VEVENT
UID:174c89de-a234-4044-a727-837f327f47a3@www.herbwalker.com
DTSTAMP:20260422T145714Z
DTSTART:20260519T190000Z
DTEND:20260519T200000Z
SUMMARY:Memorial Service
DESCRIPTION:
URL:https://www.herbwalker.com/obituaries/amanda-garr
LOCATION: 3939 Reading Rd  Cincinnati OH 45229
GEO:39.1564148;-84.4805345
END:VEVENT
END:VCALENDAR