BEGIN:VCALENDAR
VERSION:2.0
PRODID:-//Tukios.com/
BEGIN:VEVENT
UID:b3802d85-5498-4900-93fa-9ca180881c63@www.herbwalker.com
DTSTAMP:20260422T145704Z
DTSTART:20260519T183000Z
DTEND:20260519T190000Z
SUMMARY:Memorial Gathering
DESCRIPTION:
URL:https://www.herbwalker.com/obituaries/amanda-garr
LOCATION: 3939 Reading Rd  Cincinnati OH 45229
GEO:39.1564148;-84.4805345
END:VEVENT
END:VCALENDAR