BEGIN:VCALENDAR
VERSION:2.0
PRODID:-//Tukios.com/
BEGIN:VEVENT
UID:5d3c670d-a47b-4b68-9ffa-6d202320a985@www.herbwalker.com
DTSTAMP:20260421T165227Z
DTSTART:20260424T180000Z
DTEND:20260424T190000Z
SUMMARY:Visitation
DESCRIPTION:
URL:https://www.herbwalker.com/obituaries/alice-driskell
LOCATION:Walker Funeral Home - Walnut Hills Chapel 2625 Gilbert Ave  
	Cincinnati OH 45206
GEO:39.1281253;-84.4894842
END:VEVENT
END:VCALENDAR