BEGIN:VCALENDAR
VERSION:2.0
PRODID:-//Tukios.com/
BEGIN:VEVENT
UID:99e9dc24-d66e-494a-84e5-9da63c83c632@www.herbwalker.com
DTSTAMP:20260425T153038Z
DTSTART:20260508T160000Z
DTEND:20260508T170000Z
SUMMARY:Memorial Service
DESCRIPTION:
URL:https://www.herbwalker.com/obituaries/alice-bell
LOCATION: 8936 Mason Montgomery Rd  Mason OH 45040
GEO:39.3091345;-84.313196
END:VEVENT
END:VCALENDAR