BEGIN:VCALENDAR
VERSION:2.0
PRODID:-//Tukios.com/
BEGIN:VEVENT
UID:ae44343d-df90-4030-8e96-005937bd693c@www.herbwalker.com
DTSTAMP:20260425T153120Z
DTSTART:20260508T150000Z
DTEND:20260508T160000Z
SUMMARY:Memorial Gathering
DESCRIPTION:
URL:https://www.herbwalker.com/obituaries/alice-bell
LOCATION:Mason Village Seventh-day Adventist Church 8936 Mason Montgomery 
	Rd  Mason OH 45040
GEO:39.3091345;-84.313196
END:VEVENT
END:VCALENDAR